BEGIN:VCALENDAR
VERSION:2.0
PRODID:-//Pride At Work Canada - ECPv6.15.20//NONSGML v1.0//EN
CALSCALE:GREGORIAN
METHOD:PUBLISH
X-ORIGINAL-URL:https://prideatwork.ca/fr/
X-WR-CALDESC:Évènements pour Pride At Work Canada
REFRESH-INTERVAL;VALUE=DURATION:PT1H
X-Robots-Tag:noindex
X-PUBLISHED-TTL:PT1H
BEGIN:VTIMEZONE
TZID:America/Toronto
BEGIN:DAYLIGHT
TZOFFSETFROM:-0500
TZOFFSETTO:-0400
TZNAME:EDT
DTSTART:20230312T070000
END:DAYLIGHT
BEGIN:STANDARD
TZOFFSETFROM:-0400
TZOFFSETTO:-0500
TZNAME:EST
DTSTART:20231105T060000
END:STANDARD
BEGIN:DAYLIGHT
TZOFFSETFROM:-0500
TZOFFSETTO:-0400
TZNAME:EDT
DTSTART:20240310T070000
END:DAYLIGHT
BEGIN:STANDARD
TZOFFSETFROM:-0400
TZOFFSETTO:-0500
TZNAME:EST
DTSTART:20241103T060000
END:STANDARD
BEGIN:DAYLIGHT
TZOFFSETFROM:-0500
TZOFFSETTO:-0400
TZNAME:EDT
DTSTART:20250309T070000
END:DAYLIGHT
BEGIN:STANDARD
TZOFFSETFROM:-0400
TZOFFSETTO:-0500
TZNAME:EST
DTSTART:20251102T060000
END:STANDARD
END:VTIMEZONE
BEGIN:VEVENT
DTSTART;TZID=America/Toronto:20240612T120000
DTEND;TZID=America/Toronto:20240612T133000
DTSTAMP:20260419T145832
CREATED:20240507T140359Z
LAST-MODIFIED:20240523T171852Z
UID:10000730-1718193600-1718199000@prideatwork.ca
SUMMARY:ProFierté virtuelle - Amplifier la fierté : mobiliser les personnalités d'influence 2SLGBTQIA+ pour générer de l'impact [gratuit - anglais]
DESCRIPTION:(Veuillez noter que cet événement est offert en anglais.) \nLe mercredi 12 juin 2024 de 12 h à 13 h 30 HAE – cet évènement en ligne est gratuit et ouvert au public. \n \nVous souhaitez aller au-delà de l’engagement de surface et faire une différence significative pendant le mois de la Fierté\, notamment face à la montée de la haine anti-2SLGBTQIA+? Assistez à notre table ronde composée de personnalités d’influence 2SLGBTQIA+\, expérimentées en marketing et en partenariats stratégiques\, qui vous dévoileront de précieuses stratégies et perspectives pour aiguiller votre organisation dans cette période charnière. \nNous explorerons des approches créatives et efficaces qui vont au-delà de l’engagement de surface\, dont la culture de liens authentiques et l’établissement de partenariats stratégiques. Venez découvrir comment l’amplification de vos efforts de représentation peut favoriser un milieu de travail et une communauté plus inclusifs\, au-delà du mois de la Fierté. \nObjectifs d’apprentissage : \n\nObtenir des conseils pratiques et des perspectives d’action pour mener à bien les initiatives du mois de la Fierté et générer un impact positif durable pour votre organisation.\nApprofondir votre compréhension de l’importance de l’authenticité dans les relations avec la communauté 2SLGBTQIA+ durant et au-delà du mois de la Fierté.\nIdentifier des stratégies pour établir des partenariats gagnants avec des personnalités d’influence de la communauté 2SLGBTQIA+ afin de maximiser la portée et le rayonnement de votre organisation.\n\nPublics cibles : \n\nÉquipes de communication et de marketing\nProfessionnel·les de l’équité\, de la diversité et de l’inclusion\nGroupes de ressources pour employé·es 2SLGBTQIA+\n\nPANÉLISTES\n[vc_row] \n[vc_column width=”1/4″] \n \nHaley Robinson (pronoms neutres)\nActeur.trice\, mannequin et avocat.e\n[panéliste]\n[/vc_column] \n[vc_column width=”1/4″] \n \nJamie Pandit (elle/la)\nCréatrice de contenu et experte en mode\n[panéliste]\n[/vc_column] \n[vc_column width=”1/4″] \n \nKissy Duerre (elle/la)\nCréatrice numérique multiplateforme\n[panéliste]\n[/vc_column] \n[vc_column width=”1/4″] \n \nMathieu Young (iel + accords masculin\, il/lui)\nCoordonnateur des programmes virtuels\nFierté au travail Canada\n[moderateur]\n[/vc_column] \n[/vc_row] \nAccessibilité : \n\nLangue parlée : anglais\nTraduction automatique : anglais vers français\nSous-titrage fourni : anglais et français\nFormat : Virtuel (Zoom en mode webinaire)\nType d’engagement : les participants sont invités à s’engager via le chat (pas d’audio ou de vidéo)\nVeuillez vous inscrire ci-dessous pour toute demande d’accessibilité supplémentaire. Toutes les questions peuvent être envoyées à events@prideatwork.ca.\n\nÀ propos de ProFierté :\nProFierté est une série d’évènements novateurs organisés par Fierté au travail Canada\, réunissant des employeurs inclusifs\, des leaders 2SLGBTQIA+ et des organisations communautaires pour des conversations engageantes\, des opportunités de réseautage\, des panels et des tables rondes. ProFierté propose un environnement dynamique pour le personnel\, les personnes en recherche d’emploi et les membres de la communauté\, ainsi que pour les employeurs engagés dans l’inclusion des personnes 2SLGBTQIA+\, dans le but de créer des espaces inclusifs au-delà des célébrations de la Fierté. Rejoignez-nous pour aborder les sujets les plus pertinents et les recherches les plus récentes\, tout en soulignant les progrès en matière de leadership et d’inclusion des personnes 2SLGBTQIA+ et en bâtissant un avenir meilleur et plus inclusif pour toutes les personne. \nRegistration for this event has closed.\nCet évènement en ligne est gratuit et ouvert au public. Si vous souhaitez vous inscrire après la date limite\, s’il vous plaît envoyez un courriel à events@prideatwork.ca.
URL:https://prideatwork.ca/fr/event/profierte-virtuelle-2024/
CATEGORIES:Free event,ProPride
END:VEVENT
END:VCALENDAR