BEGIN:VCALENDAR
VERSION:2.0
PRODID:-//Pride At Work Canada - ECPv6.15.20//NONSGML v1.0//EN
CALSCALE:GREGORIAN
METHOD:PUBLISH
X-WR-CALNAME:Pride At Work Canada
X-ORIGINAL-URL:https://prideatwork.ca/fr/
X-WR-CALDESC:Évènements pour Pride At Work Canada
REFRESH-INTERVAL;VALUE=DURATION:PT1H
X-Robots-Tag:noindex
X-PUBLISHED-TTL:PT1H
BEGIN:VTIMEZONE
TZID:America/Toronto
BEGIN:DAYLIGHT
TZOFFSETFROM:-0500
TZOFFSETTO:-0400
TZNAME:EDT
DTSTART:20220313T070000
END:DAYLIGHT
BEGIN:STANDARD
TZOFFSETFROM:-0400
TZOFFSETTO:-0500
TZNAME:EST
DTSTART:20221106T060000
END:STANDARD
BEGIN:DAYLIGHT
TZOFFSETFROM:-0500
TZOFFSETTO:-0400
TZNAME:EDT
DTSTART:20230312T070000
END:DAYLIGHT
BEGIN:STANDARD
TZOFFSETFROM:-0400
TZOFFSETTO:-0500
TZNAME:EST
DTSTART:20231105T060000
END:STANDARD
BEGIN:DAYLIGHT
TZOFFSETFROM:-0500
TZOFFSETTO:-0400
TZNAME:EDT
DTSTART:20240310T070000
END:DAYLIGHT
BEGIN:STANDARD
TZOFFSETFROM:-0400
TZOFFSETTO:-0500
TZNAME:EST
DTSTART:20241103T060000
END:STANDARD
END:VTIMEZONE
BEGIN:VEVENT
DTSTART;TZID=America/Toronto:20230802T173000
DTEND;TZID=America/Toronto:20230802T200000
DTSTAMP:20260420T133326
CREATED:20230712T202732Z
LAST-MODIFIED:20230728T151819Z
UID:10000538-1690997400-1691006400@prideatwork.ca
SUMMARY:ProFierté Montréal
DESCRIPTION:Le mercredi 2 août 2023 de 17 h 30 à 20 h HAE – cet évènement en personne est gratuit et ouvert au public. \n \n[vc_row][vc_column width=”1/3″] \nCommanditaire principal\n\n[/vc_column][vc_column width=”1/3″] \nCommanditaire hôte\n\n[/vc_column][vc_column width=”1/3″] \nCommanditaire\n\n[/vc_column][/vc_row] \nJoignez-vous à Fierté au travail Canada pour une soirée de réseautage et de connexion pour les personnes passionnées par la création de milieux de travail plus inclusifs. Les festivités de la soirée permettront aux participant.e.s de rencontrer des personnes partageant les mêmes idées\, de partager leurs expériences et d’apprendre les un.e.s des autres. Réunissant des professionnel.le.s\, des membres de la communauté et des personnes en recherche d’’emploi issues d’une diversité d’industries et d’horizons. \nAu cours de ProFierté 2023: Leadership\, nous célébrerons et mettrons de l’avant les voix des leaders 2SLGBTQIA+ à travers le pays\, et soulignerons le rôle vital que jouent ces personnes pour assurer la survie et l’épanouissement de nos communautés sur les plans professionnel et personnel. Venez célébrer avec nous le 15e anniversaire de Fierté au travail Canada et honorer les forces\, les talents et le leadership des personnes 2SLGBTQIA+ en milieu de travail! \nDes personnalité.e.s seront mises de l’avant afin de célébrer leur présence dans nos communautés locales ! \nLieu :\nSid Lee Montréal – 12102-1 Place Ville Marie\, Montréal\, Québec \nProgramme : \n\n17 h 30 – Ouverture des portes public\n18 h 30 – Prises de parole\n20 h – Fin de l’événement\n\nPublic : \n\nProfessionnel.le.s 2SLGBTQIA+\nMembres des communautés 2SLGBTQIA+\nPersonnes 2SLGBTQIA+ en recherche d’’emploi\nProfessionnel.le.s de diversité\, équité et inclusion\n\nPRISES DE PAROLE\n[vc_row][vc_column width=”1/4″]\n \nSalwa Salek (elle/la)\nCheffe du bureau Équité\, Diversité et Inclusion\nDesjardins\n[/vc_column][vc_column width=”1/4″]\n \nKatia Aubin (elle/la)\nVice-présidente\, communications et image de marque\nSid Lee\n[/vc_column][vc_column width=”1/4″]\n \nMathieu Johnson (il/lui)\nAmbassadeur de la communauté LGBTQ+ & Vice-président par intérim\, Stratégies et développement\nHydro-Québec\n[/vc_column][vc_column width=”1/4″]\n \nFlorence Gagnon (elle/la)\nDirectrice développement créatif\nFierté au travail Canada\n[/vc_column][/vc_row] \nINVITÉ.E.S D’HONNEUR\nVenez rencontrer 15 personnalité.e.s de nos communautés incluant :\n[vc_row][vc_column width=”1/2″]\n \nMona Belleau (elle/la)\nMilitante Inuk\n\n[/vc_column][vc_column width=”1/2″]\n \nBarbada\nDrag-Queen\n[/vc_column][/vc_row] \nAccessibilité : \n\nLangue parlée : français\nFormat : L’événement en personne\nVeuillez inscrire toute demande d’accessibilité supplémentaire ci-dessous. Toute question peut être adressée à info@prideatwork.ca\n\nÀ propos de ProFierté :\nProFierté est une série d’évènements novateurs organisés par Fierté au travail Canada\, réunissant des employeurs inclusifs\, des leaders 2SLGBTQIA+ et des organisations communautaires pour des conversations engageantes\, des opportunités de réseautage\, des panels et des tables rondes. ProFierté propose un environnement dynamique pour le personnel\, les personnes en recherche d’emploi et les membres de la communauté\, ainsi que pour les employeurs engagés dans l’inclusion des personnes 2SLGBTQIA+\, dans le but de créer des espaces inclusifs au-delà des célébrations de la Fierté. Rejoignez-nous pour aborder les sujets les plus pertinents et les recherches les plus récentes\, tout en soulignant les progrès en matière de leadership et d’inclusion des personnes 2SLGBTQIA+ et en bâtissant un avenir meilleur et plus inclusif pour toutes les personnes. \nPour participer en personne\, veuillez vous inscrire ici (capacité limitée).\nCet évènement en personne est gratuit et ouvert au public. Si vous souhaitez vous inscrire après la date limite\, s’il vous plaît envoyez un courriel à info@prideatwork.ca.
URL:https://prideatwork.ca/fr/event/propride-20230802/
LOCATION:Sid Lee Montreal\, 12102-1 Place Ville Marie\, Montreal\, QC\, H3B 3Y1
CATEGORIES:Networking,ProPride
END:VEVENT
BEGIN:VEVENT
DTSTART;TZID=America/Toronto:20230823T120000
DTEND;TZID=America/Toronto:20230823T130000
DTSTAMP:20260420T133326
CREATED:20230529T193821Z
LAST-MODIFIED:20230529T210640Z
UID:10000677-1692792000-1692795600@prideatwork.ca
SUMMARY:Atelier : Intersectionnalité au sein de la communauté 2SLGBTQIA+ [parternaires - anglais]
DESCRIPTION:(Veuillez noter que cet atelier est offert en anglais.) \nLe mercredi 23 août 2023 de 12 h à 13 h HAE – cet événement est offert en exclusivité au personnel de nos organisations Fières partenaires et Partenaires communautaires. Cette session sera offerte en français le 20 septembre.\nUn sous-titrage en direct sera assuré par 3 Play Media Canada. \nRejoignez-nous pour un atelier d’une heure sur l’intersectionnalité au sein de la communauté 2SLGBTQIA+. Nous aborderons les définitions et les exemples d’identités sociales intersectantes\, ainsi que l’importance de considérer l’intersectionnalité dans la communauté 2SLGBTQIA+. Nous discuterons également des antécédents historiques de l’intersectionnalité dans le mouvement 2SLGBTQIA+ et de son importance pour l’activisme et l’organisation communautaire. Enfin\, nous explorerons les meilleures pratiques pour une inclusion intersectionnelle dans les espaces et les organisations 2SLGBTQIA+. Rejoignez-nous pour une discussion interactive et un Q&A avec notre panel d’expert.e.s! \nObjectifs d’apprentissage : \n\nDéfinir et expliquer le concept d’intersectionnalité et son importance pour la communauté 2SLGBTQIA+.\nComprendre les identités sociales intersectantes et leur impact sur les expériences des individu.e.s 2SLGBTQIA+.\nExaminer les antécédents historiques de l’intersectionnalité dans le mouvement 2SLGBTQIA+ et son importance pour l’activisme et l’organisation communautaire.\nIdentifier les meilleures pratiques pour une inclusion intersectionnelle dans les espaces et les organisations 2SLGBTQIA+.\n\nPublic : \n\nFières Partenaires et Partenaires Communautaires\nProfessionnel.le.s de la diversité\, de l’équité et de l’inclusion\nProfessionnel.le.s des ressources humaines\nMilitant.e.s et allié.e.s de la communauté 2SLGBTQIA+\n\nPrésentation donnée par :\n[vc_row][vc_column width=”1/4″][/vc_column][vc_column width=”3/4″]Iyol Martínez (iel)\, Coordination des programmes de leadership\, Fierté au travail Canada \nIyol Martínez est d’origine migrante colonisatrice de la vallée d’Anahuac et vit et travaille actuellement dans les territoires traditionnels\, ancestraux et non cédés des nations kʷikʷəƛ̓əm (Kwikwetlem)\, Sḵwx̱wú7mesh (Squamish)\, səl̓ilw̓ətaʔɬ (Tsleil-Waututh) et xʷməθkʷəy̓əm (Musqueam). Iel est titulaire d’un double baccalauréat en arts en sociologie avec une mineure en genre\, race\, sexualité et justice sociale de Sciences-Po Paris et de l’Université de la Colombie-Britannique (UBC). \nIyol a travaillé dans le secteur à but non lucratif\, en assistant à la recherche au sein de la Commission des droits de la personne de la ville de Mexico et en assurant la coordination de programmes à la YouthCO HIV and Hep C Society\, où iel a mené des actions d’éducation par les pairs\, ainsi que développé et mis en œuvre des programmes complets de leadership en santé communautaire pour les jeunes queer et trans. Iyol se passionne pour le développement de la communauté\, la coordination de projets et le travail en faveur de l’équité\, de la diversité et de l’inclusion en milieu de travail et ailleurs. Dans ses temps libres\, Iyol aime se peindre les ongles et parler avec ses proches.\n[/vc_column][/vc_row] \n[vc_row][vc_column width=”1/4″][/vc_column][vc_column width=”3/4″]Quinn Blue (il/lui)\, Coordinateur des programmes et de l’engagement\, Fierté au travail Canada \nQuinn Blue a plus de dix ans d’expérience dans l’éducation et la programmation 2SLGBTQ+. Quinn a beaucoup travaillé dans le domaine de la vie étudiante\, occupant des postes axés sur l’équité et l’inclusion à l’Université d’Ottawa\, et\, plus récemment\, a passé six ans à la coordination du centre de bien-être et d’équité à la Algonquin Students’ Association. Ses études ont porté sur la condition féminine et le genre\, ainsi que sur l’enseignement aux personnes apprenantes adultes. Quinn se passionne pour la conduite du changement et l’apprentissage.\n[/vc_column][/vc_row] \nAccessibilité : \n\nLangue parlée : anglais\nSous-titrage en direct en anglais et traduction automatique en français fournis par 3Play Media Canada.\nFormat : Virtuel (sur Zoom)\nType d’engagement : les participant.e.s sont invité.e.s à partager en utilisant le chat.\nLa présentation PowerPoint sera disponible avant la session pour les personnes ayant des besoins d’accessibilité.\nVeuillez enregistrer ci-dessous les demandes d’accessibilité supplémentaires. Toute question peut être envoyée à info@prideatwork.ca.\n\nRegistration for this event has closed.\nCet événement est exclusif aux employés de nos organisations Fières partenaires et Partenaires communautaires. Si vous souhaitez vous inscrire après la date limite\, s’il vous plaît envoyez un courriel à info@prideatwork.ca.
URL:https://prideatwork.ca/fr/event/workshop-20230823/
CATEGORIES:ProPride,Webinar,Workshop
END:VEVENT
END:VCALENDAR