BEGIN:VCALENDAR
VERSION:2.0
PRODID:-//Pride At Work Canada - ECPv6.15.20//NONSGML v1.0//EN
CALSCALE:GREGORIAN
METHOD:PUBLISH
X-WR-CALNAME:Pride At Work Canada
X-ORIGINAL-URL:https://prideatwork.ca/fr/
X-WR-CALDESC:Évènements pour Pride At Work Canada
REFRESH-INTERVAL;VALUE=DURATION:PT1H
X-Robots-Tag:noindex
X-PUBLISHED-TTL:PT1H
BEGIN:VTIMEZONE
TZID:America/Toronto
BEGIN:DAYLIGHT
TZOFFSETFROM:-0500
TZOFFSETTO:-0400
TZNAME:EDT
DTSTART:20220313T070000
END:DAYLIGHT
BEGIN:STANDARD
TZOFFSETFROM:-0400
TZOFFSETTO:-0500
TZNAME:EST
DTSTART:20221106T060000
END:STANDARD
BEGIN:DAYLIGHT
TZOFFSETFROM:-0500
TZOFFSETTO:-0400
TZNAME:EDT
DTSTART:20230312T070000
END:DAYLIGHT
BEGIN:STANDARD
TZOFFSETFROM:-0400
TZOFFSETTO:-0500
TZNAME:EST
DTSTART:20231105T060000
END:STANDARD
BEGIN:DAYLIGHT
TZOFFSETFROM:-0500
TZOFFSETTO:-0400
TZNAME:EDT
DTSTART:20240310T070000
END:DAYLIGHT
BEGIN:STANDARD
TZOFFSETFROM:-0400
TZOFFSETTO:-0500
TZNAME:EST
DTSTART:20241103T060000
END:STANDARD
END:VTIMEZONE
BEGIN:VTIMEZONE
TZID:America/St_Johns
BEGIN:DAYLIGHT
TZOFFSETFROM:-0330
TZOFFSETTO:-0230
TZNAME:NDT
DTSTART:20220313T053000
END:DAYLIGHT
BEGIN:STANDARD
TZOFFSETFROM:-0230
TZOFFSETTO:-0330
TZNAME:NST
DTSTART:20221106T043000
END:STANDARD
BEGIN:DAYLIGHT
TZOFFSETFROM:-0330
TZOFFSETTO:-0230
TZNAME:NDT
DTSTART:20230312T053000
END:DAYLIGHT
BEGIN:STANDARD
TZOFFSETFROM:-0230
TZOFFSETTO:-0330
TZNAME:NST
DTSTART:20231105T043000
END:STANDARD
BEGIN:DAYLIGHT
TZOFFSETFROM:-0330
TZOFFSETTO:-0230
TZNAME:NDT
DTSTART:20240310T053000
END:DAYLIGHT
BEGIN:STANDARD
TZOFFSETFROM:-0230
TZOFFSETTO:-0330
TZNAME:NST
DTSTART:20241103T043000
END:STANDARD
END:VTIMEZONE
BEGIN:VEVENT
DTSTART;TZID=America/Toronto:20230712T120000
DTEND;TZID=America/Toronto:20230712T130000
DTSTAMP:20260420T152216
CREATED:20230502T170704Z
LAST-MODIFIED:20230704T160332Z
UID:10000675-1689163200-1689166800@prideatwork.ca
SUMMARY:Atelier : Célébrer l'identité non-binaire à travers l'inclusion\, les pronoms et le langage inclusif [Partenaires - français]
DESCRIPTION:Le mercredi 12 juillet 2023 de 12 h à 13 h HAE – cet événement est offert en exclusivité au personnel de nos organisations Fières partenaires et Partenaires communautaires.\nUn sous-titrage simultané sera assuré par 3 Play Media Canada. \nRejoignez-nous pour célébrer la Journée internationale de la non-binarité avec un webinaire axé sur l’inclusion des personnes non-binaires\, les pronoms neutres en genre et la reconnaissance légale de leur identité. \nCe webinaire est ouvert à tous ceux qui souhaitent en savoir plus sur l’histoire de l’inclusion des personnes non-binaires\, les pronoms neutres en genre et la reconnaissance légale de leur identité. \nNe manquez pas cette occasion de participer à une discussion informative et engageante sur l’inclusion des personnes non-binaires\, les pronoms neutres en genre et la reconnaissance légale de leur identité. Inscrivez-vous dès maintenant et rejoignez-nous le 12 juillet ! \nObjectif d’apprentissage : \n\nL’histoire de l’inclusion des personnes non-binaires\, leurs défis et progrès\nL’utilisation inclusive d’une langue traditionnellement genrée\,\nDiscuter de la reconnaissance légale de l’identité non-binaire et des progrès accomplis dans ce domaine.\n\nNous partagerons des informations sur les différentes lois et politiques qui existent dans différents pays et juridictions\, ainsi que sur les défis que rencontrent encore les personnes non-binaires pour obtenir une reconnaissance légale de leur identité. \nPublic : \n\nPartenaires fiers et communautaires\nProfessionnels de la diversité\, de l’équité et de l’inclusion\nProfessionnels des ressources humaines\nMilitants et alliés de la communauté 2SLGBTQIA+\n\nAccessibilité : \n\nLangue parlée : Français\nSous-titrage en direct en français et traduction automatique en anglais fournis par 3Play Media Canada.\nFormat : Virtuel (sur Zoom)\nType d’engagement : les participant.e.s sont invité.e.s à partager en utilisant le chat.\nLa présentation Powerpoint sera disponible avant la session pour les personnes ayant des besoins d’accès.\nVeuillez vous inscrire ci-dessous pour toute demande d’accessibilité supplémentaire. Toutes les questions peuvent être envoyées à info@prideatwork.ca.\n\nPrésentation donnée par :\n[vc_row][vc_column width=”1/4″][/vc_column][vc_column width=”3/4″]Mathieu Young (iel + accords masculin\, il/lui)\, Coordonnateur des programmes virtuels\, Fierté au travail Canada \nMathieu Young est une personne mauricienne queer qui se passionne pour l’autonomisation des communautés marginalisées\, plus particulièrement les personnes immigrées queer de couleur\, par le dialogue\, l’éducation et l’activisme. Mathieu est également artiste multidisciplinaire\, connu pour son organisation d’évènements qui célèbrent la diversité de la communauté LGBTQIA+\, avec un accent particulier sur la reconnaissance des personnes immigrées queer et de couleur. Lorsqu’iel était à la présidence du conseil d’administration d’Action positive VIH/sida\, Mathieu était responsable d’obtenir du financement et d’assurer le bon fonctionnement des programmes et des services de l’organisme. Mathieu a également été coordonnateur de l’engagement communautaire pour FrancoQueer\, où iel a organisé des ateliers\, des groupes de soutien et des évènements\, puis a donné des formations sur l’identité de genre\, l’orientation sexuelle et la lutte contre le racisme. Grâce à sa forte expérience en matière de gestion de projets\, de sensibilisation de la communauté et de planification d’évènements\, Mathieu apporte une perspective unique et précieuse au secteur. Sa maîtrise du français\, de l’espagnol et de l’anglais et sa connaissance de divers programmes administratifs en font un atout polyvalent et précieux.[/vc_column][/vc_row] \nRegistration for this event has closed.\nCet événement est exclusif aux employés de nos organisations Fières partenaires  et Partenaires communautaires. Si vous souhaitez vous inscrire après la date limite\, s’il vous plaît envoyez un courriel à info@prideatwork.ca.
URL:https://prideatwork.ca/fr/event/workshop-20230712/
CATEGORIES:ProPride,Webinar,Workshop
END:VEVENT
BEGIN:VEVENT
DTSTART;TZID=America/Toronto:20230719T120000
DTEND;TZID=America/Toronto:20230719T130000
DTSTAMP:20260420T152216
CREATED:20230425T175051Z
LAST-MODIFIED:20230704T202007Z
UID:10000668-1689768000-1689771600@prideatwork.ca
SUMMARY:Table ronde virtuelle : Stratégies pour contrer la montée de la haine [Partenaires – anglais]
DESCRIPTION:(Veuillez noter que cet webinaire est offert en anglais.) \nLe mercredi 19 juillet 2023 de 12 h à 13 h HAE – cet événement est offert en exclusivité au personnel de nos organisations Fières partenaires et Partenaires communautaires.\nUn sous-titrage en direct sera assuré par 3 Play Media Canada. \n[vc_row][vc_column width=”2/3″]Joignez-vous à Fierté au travail Canada pour une discussion sur les stratégies à adopter pour lutter contre la montée de la haine. Au cours de la dernière année\, les manifestations\, les attaques et les mouvements politiques anti-2SLGBTQIA+ se sont multipliés. Les évènements drag sont pris pour cible\, des politiques et des lois anti-trans ont été proposées et promulguées\, et les personnes trans font face à des contrecoups négatifs importants. Les communautés 2SLGBTQIA+ et les personnes sympathisantes s’engagent depuis longtemps à rendre le monde meilleur\, et vous et votre organisation pouvez jouer un rôle dans cette histoire. \n[/vc_column][vc_column width=”1/3″]Commandite communautaire\n[/vc_column][/vc_row] \nObjectifs d’apprentissage : \n\nPartager des expériences et des stratégies pour lutter contre la montée de la haine\nRenforcer vos réseaux pour développer des communautés plus résilientes\nDéfinir le rôle que vous et votre organisation jouez dans les stratégies de lutte contre la montée de la haine\n\nPublic : \n\nPersonnel et membres du conseil d’administration de nos partenaires communautaires \nMembres des groupes de ressources pour employés\nLeaders 2SLGBTQIA+\n\nPrésentation donnée par :\n[vc_row][vc_column width=”1/4″][/vc_column][vc_column width=”3/4″] Fae Johnstone (elle/la et pronoms neutres)\, Direction générale\, Widsom2Action\, et Présidente\, Momentum \n(Bio disponible en anglais) Fae is the Executive Director of Wisdom2Action\, a 2SLGBTQIA+-owned and operated consulting firm\, and President of the Society of Queer Momentum – a 2SLGBTQIA+ advocacy nonprofit. \nShe is a leading voice on 2SLGBTQIA+ issues in Canada\, a prominent advocate for queer and trans rights\, a recurring voice in Canadian news on 2SLGBTQIA+ issues. Over the past ten years\, she has trained thousands of people and hundreds of workplaces on 2SLGBTQIA+ inclusion. She’s also on a chocolate bar.\n[/vc_column][/vc_row] \n[vc_row][vc_column width=”1/4″][/vc_column][vc_column width=”3/4″] Quinn Blue (il/lui)\, Coordinateur des programmes et de l’engagement\, Fierté au travail Canada \nQuinn Blue a plus de dix ans d’expérience dans l’éducation et la programmation 2SLGBTQ+. Quinn a beaucoup travaillé dans le domaine de la vie étudiante\, occupant des postes axés sur l’équité et l’inclusion à l’Université d’Ottawa\, et\, plus récemment\, a passé six ans à la coordination du centre de bien-être et d’équité à la Algonquin Students’ Association. Ses études ont porté sur la condition féminine et le genre\, ainsi que sur l’enseignement aux personnes apprenantes adultes. Quinn se passionne pour la conduite du changement et l’apprentissage.\n[/vc_column][/vc_row] \nAccessibilité : \n\nLangue parlée : anglais\nSous-titrage : anglais et traduction automatique en français\nFormat : visioconférence (sur Zoom avec l’utilisation d’outils supplémentaires tels que Slido)\nType de participation : les personnes sont invitées à participer avec audio/vidéo/chat\nVeuillez inscrire toute demande d’accessibilité supplémentaire ci-dessous. Toute question peut être adressée à info@prideatwork.ca\n\nNombre de places limité.\nRegistration for this event has closed.\nCet événement est exclusif aux employés de nos organisations Fières partenaires et Partenaires communautaires. Si vous souhaitez vous inscrire après la date limite\, s’il vous plaît envoyez un courriel à info@prideatwork.ca.
URL:https://prideatwork.ca/fr/event/roundtable-20230719/
CATEGORIES:ProPride,Roundtable
END:VEVENT
BEGIN:VEVENT
DTSTART;TZID=America/St_Johns:20230720T170000
DTEND;TZID=America/St_Johns:20230720T200000
DTSTAMP:20260420T152216
CREATED:20230602T162116Z
LAST-MODIFIED:20230713T172807Z
UID:10000681-1689872400-1689883200@prideatwork.ca
SUMMARY:ProFierté Saint-Jean\, TNL
DESCRIPTION:(Veuillez noter que cet événement est offert en anglais.) \nLe jeudi 20 juillet 2023 de 17 h à 20 h HAT (de 15 h 30 à 18 h 30 HAE) – cet évènement hybride est gratuit et ouvert au public. \n[vc_row][vc_column width=”2/3″] \n[/vc_column][vc_column width=”1/3″] \nCommanditaire\n[/vc_column][/vc_row] \nTable ronde et réception : Le leadership 2SLGBTQIA+ en action\nJoignez-vous à Fierté au travail Canada pour une soirée de réseautage et de rencontre destinée aux personnes passionnées par l’avancement des droits des personnes 2SLGBTQIA+ et la création de milieux de travail plus inclusifs. Cette soirée sera l’occasion pour les personnes participantes de rencontrer des personnes qui partagent leur vision\, de partager leurs expériences et de faire des apprentissages mutuels. L’évènement réunira des professionnels\, des membres de la communauté et des personnes en recherche d’emploi de secteurs d’activité et d’horizons divers. \nL’évènement comprendra une table ronde et une réception de réseautage animée. La table ronde portera sur l’importance du leadership dans les communautés 2SLGBTQIA+ et s’appuiera sur la recherche novatrice Diriger avec fierté : pratiques exemplaires pour l’avancement du leadership 2SLGBTQIA+. Venez célébrer et créer de nouveaux liens. \nObjectifs d’apprentissage : \n\nOutils pour soutenir le leadership 2SLGBTQIA+\nComment promouvoir et retenir les talents 2SLGBTQIA+\nStratégies pour les leaders 2SLGBTQIA+\n\nPublics cibles : \n\nPersonnes 2SLGBTQIA+ en emploi et en recherche d’emploi\nMembres de la communauté 2SLGBTQIA+\nResponsables des ressources humaines et de la DEI\n\nLieu:\nSt. John’s Convention Centre – 50 New Gower Street\, St. John’s NL A1A 2A1 \nPANÉLISTES\n[vc_row][vc_column width=”1/3″]\n \nChris Forward (il/lui)\nDirecteur général\nHarvey’s Oil & Harvey’s Home Heating\n[panéliste]\n[/vc_column][vc_column width=”1/3″]\n \nGemma Hickey (pronoms neutres)\nAuteur.e\, militant.e et directeur.rice exécutif.ve\nArtforce\n[panéliste]\n[/vc_column][vc_column width=”1/3″]\n \nNikki Baldwin (pronoms neutres\, elle/la)\nDirection générale\nPlanned Parenthood Newfoundland and Labrador\n[panéliste]\n[/vc_column][/vc_row] \n[vc_row][vc_column width=”1/3″]\n \nIrma Gerd (pronoms neutres)\nCanada’s Drag Race S3 & la BÊTE de la côte est du Canada\n[remarques & performance]\n[/vc_column][vc_column width=”1/3″]\n \nJade Pichette (elle/la)\nDirectrice des programmes\nFierté au travail Canada\n[moderatrice]\n[/vc_column][vc_column width=”1/3″]\n \nMathieu Young (iel\, il/lui)\nCoordonnateur des programmes virtuels\nFierté au travail Canada\n[animateur]\n[/vc_column][/vc_row] \nAccessibilité : \n\nLangue parlée : anglais\nInterprétation en direct : disponible sur demande\nSous-titrage : anglais\nFormat : L’événement hybride avec retransmission en direct de la table ronde\nVeuillez inscrire toute demande d’accessibilité supplémentaire ci-dessous. Toute question peut être adressée à info@prideatwork.ca\n\nÀ propos de ProFierté :\nProFierté est une série d’évènements novateurs organisés par Fierté au travail Canada\, réunissant des employeurs inclusifs\, des leaders 2SLGBTQIA+ et des organisations communautaires pour des conversations engageantes\, des opportunités de réseautage\, des panels et des tables rondes. ProFierté propose un environnement dynamique pour le personnel\, les personnes en recherche d’emploi et les membres de la communauté\, ainsi que pour les employeurs engagés dans l’inclusion des personnes 2SLGBTQIA+\, dans le but de créer des espaces inclusifs au-delà des célébrations de la Fierté. Rejoignez-nous pour aborder les sujets les plus pertinents et les recherches les plus récentes\, tout en soulignant les progrès en matière de leadership et d’inclusion des personnes 2SLGBTQIA+ et en bâtissant un avenir meilleur et plus inclusif pour toutes les personnes. \nPour participer en personne\, veuillez vous inscrire ici (capacité limitée).\nPour participer en ligne\, veuillez vous inscrire ci-dessous :\nRegistration for this event has closed.\nCet évènement hybride est gratuit et ouvert au public. Si vous souhaitez vous inscrire après la date limite\, s’il vous plaît envoyez un courriel à info@prideatwork.ca.
URL:https://prideatwork.ca/fr/event/propride-20230720/
LOCATION:St. John’s Convention Centre\, 50 New Gower Street\, St. John’s\, NL\, A1A 2A1\, Canada
CATEGORIES:Networking,Panel Discussion,ProPride
END:VEVENT
END:VCALENDAR