BEGIN:VCALENDAR
VERSION:2.0
PRODID:-//Pride At Work Canada - ECPv6.15.20//NONSGML v1.0//EN
CALSCALE:GREGORIAN
METHOD:PUBLISH
X-ORIGINAL-URL:https://prideatwork.ca/fr/
X-WR-CALDESC:Évènements pour Pride At Work Canada
REFRESH-INTERVAL;VALUE=DURATION:PT1H
X-Robots-Tag:noindex
X-PUBLISHED-TTL:PT1H
BEGIN:VTIMEZONE
TZID:America/Toronto
BEGIN:DAYLIGHT
TZOFFSETFROM:-0500
TZOFFSETTO:-0400
TZNAME:EDT
DTSTART:20230312T070000
END:DAYLIGHT
BEGIN:STANDARD
TZOFFSETFROM:-0400
TZOFFSETTO:-0500
TZNAME:EST
DTSTART:20231105T060000
END:STANDARD
BEGIN:DAYLIGHT
TZOFFSETFROM:-0500
TZOFFSETTO:-0400
TZNAME:EDT
DTSTART:20240310T070000
END:DAYLIGHT
BEGIN:STANDARD
TZOFFSETFROM:-0400
TZOFFSETTO:-0500
TZNAME:EST
DTSTART:20241103T060000
END:STANDARD
BEGIN:DAYLIGHT
TZOFFSETFROM:-0500
TZOFFSETTO:-0400
TZNAME:EDT
DTSTART:20250309T070000
END:DAYLIGHT
BEGIN:STANDARD
TZOFFSETFROM:-0400
TZOFFSETTO:-0500
TZNAME:EST
DTSTART:20251102T060000
END:STANDARD
END:VTIMEZONE
BEGIN:VEVENT
DTSTART;TZID=America/Toronto:20241015T180000
DTEND;TZID=America/Toronto:20241015T210000
DTSTAMP:20260422T204757
CREATED:20240829T184746Z
LAST-MODIFIED:20240829T185953Z
UID:10000750-1729015200-1729026000@prideatwork.ca
SUMMARY:FLOURISH - Virtual ERG Leader Development Program
DESCRIPTION:(Veuillez noter que cet événement est offert en anglais.) \nLe mardi 15 octobre 2024 à 18 h HAE – Cet événement payant porte sur le leadership et est ouvert à toute personne intéressée. L’événement en anglais sera présenté en ligne et le nombre de participants est limité. \n \nFLOURISH est un programme virtuel de huit semaines qui vise à développer les compétences nécessaires aux leaders des groupes de ressources pour employé.e.s (GRE*) 2SLGBTQIA+ pour être efficaces et réussir dans leur rôle. Les personnes qui dirigent des GRE 2SLGBTQIA+ ont d’excellentes possibilités de créer des changements pour le personnel bispirituel\, queer et trans. Elles sont également confrontées à des défis très spécifiques dans les milieux de travail canadiens. Bien que le contenu du programme aborde le fonctionnement des GRE\, l’objectif principal de FLOURISH sera de développer les compétences individuelles dans quatre domaines : \n\nQuestions économiques 2SLGBTQIA+ nationales et internationales;\nAnalyses de rentabilité et adhésion à l’inclusion 2SLGBTQIA+;\nPrincipes de gouvernance et de gestion des bénévoles;\nSoutien par les pairs aux personnes 2SLGBTQIA+ et aux personnes alliées.\n\nNotre programme FLOURISH pourra collectivement réaliser son potentiel en tant que leader de GRE grâce à des rencontres Zoom\, des modules d’apprentissage virtuels et du travail autodirigé. \nPour plus de détails\, les panélistes et les candidatures\, visitez notre page FLOURISH. \n* Veuillez noter que nous utilisons le terme ” groupe de ressources des employé.e.s ” comme un terme générique qui inclut les groupes de ressources d’affaires\, les réseaux d’affinité et d’autres groupes similaires dirigés par des employé.e.s et axés sur les groupes en quête d’équité.
URL:https://prideatwork.ca/fr/event/flourish-20241015/
LOCATION:Manitoba
CATEGORIES:Leadership,Paid event
END:VEVENT
END:VCALENDAR