BEGIN:VCALENDAR
VERSION:2.0
PRODID:-//Pride At Work Canada - ECPv6.15.20//NONSGML v1.0//EN
CALSCALE:GREGORIAN
METHOD:PUBLISH
X-WR-CALNAME:Pride At Work Canada
X-ORIGINAL-URL:https://prideatwork.ca/fr/
X-WR-CALDESC:Évènements pour Pride At Work Canada
REFRESH-INTERVAL;VALUE=DURATION:PT1H
X-Robots-Tag:noindex
X-PUBLISHED-TTL:PT1H
BEGIN:VTIMEZONE
TZID:America/Toronto
BEGIN:DAYLIGHT
TZOFFSETFROM:-0500
TZOFFSETTO:-0400
TZNAME:EDT
DTSTART:20240310T070000
END:DAYLIGHT
BEGIN:STANDARD
TZOFFSETFROM:-0400
TZOFFSETTO:-0500
TZNAME:EST
DTSTART:20241103T060000
END:STANDARD
BEGIN:DAYLIGHT
TZOFFSETFROM:-0500
TZOFFSETTO:-0400
TZNAME:EDT
DTSTART:20250309T070000
END:DAYLIGHT
BEGIN:STANDARD
TZOFFSETFROM:-0400
TZOFFSETTO:-0500
TZNAME:EST
DTSTART:20251102T060000
END:STANDARD
BEGIN:DAYLIGHT
TZOFFSETFROM:-0500
TZOFFSETTO:-0400
TZNAME:EDT
DTSTART:20260308T070000
END:DAYLIGHT
BEGIN:STANDARD
TZOFFSETFROM:-0400
TZOFFSETTO:-0500
TZNAME:EST
DTSTART:20261101T060000
END:STANDARD
END:VTIMEZONE
BEGIN:VEVENT
DTSTART;TZID=America/Toronto:20250917T130000
DTEND;TZID=America/Toronto:20250917T150000
DTSTAMP:20260420T202702
CREATED:20250825T191608Z
LAST-MODIFIED:20250825T193437Z
UID:10000915-1758114000-1758121200@prideatwork.ca
SUMMARY:Table ronde sur l’inclusion et la diversité en milieu de travail – Québec
DESCRIPTION:Mercredi\, 17 septembre | 13h00 – 15h00 HE | Sur invitation*\nOrganisée par Beneva\, Québec\, en collaboration avec Fierté au travail Canada \nLe 17 septembre\, des leaders issus des milieux communautaire\, privé et associatif se réuniront pour une table ronde portant sur l’inclusion et la diversité en milieu de travail\, avec une attention particulière portée aux réalités des personnes 2SLGBTQIA+. L’événement mettra en lumière des perspectives ancrées dans les savoirs communautaires\, incluant une présentation de l’outil de diagnostic de Fierté au travail Canada\, ainsi qu’une discussion avec Aide au trans du Québec sur sa mission\, son expérience terrain et les impacts du rapport des Sages pour la communauté trans au Québec. \nCette table ronde offrira un espace d’échange\, de réflexion et de connexion\, suivie d’un moment de réseautage informel permettant de poursuivre les discussions entre les secteurs. \n  \n\n  \n*À propos de nos événements sur invitation \nFierté au travail Canada organise régulièrement des tables rondes et des rencontres ciblées à travers le pays\, qui rassemblent des voix provenant des milieux gouvernemental\, communautaire\, entrepreneurial et associatif. Ces espaces sont pensés pour favoriser des échanges sincères\, le partage de connaissances et la collaboration stratégique. \nLa participation se fait sur invitation afin d’assurer un groupe équilibré en termes de types d’organisations\, d’identités\, de secteurs et d’expériences vécues en lien avec les thèmes abordés. Nous tenons compte à la fois de l’expertise professionnelle et de l’expérience communautaire dans la composition des groupes\, et nous plaçons au cœur de ces échanges la participation de nos partenaires Fierté et de nos partenaires communautaires\, tout en accueillant avec intérêt les propositions de personnes ou d’organisations qui mènent un travail pertinent dans ce domaine. \nPour être considéré·e pour un prochain événement\, vous pouvez contacter Jose Patiño-Gomez\, directeur des relations externes\, ou remplir ce court formulaire pour manifester votre intérêt.
URL:https://prideatwork.ca/fr/event/quebec-roundtable-on-inclusion-and-diversity-in-the-workplace/
CATEGORIES:Leadership,Networking,Roundtable
END:VEVENT
END:VCALENDAR