BEGIN:VCALENDAR
VERSION:2.0
PRODID:-//Pride At Work Canada - ECPv6.15.20//NONSGML v1.0//EN
CALSCALE:GREGORIAN
METHOD:PUBLISH
X-ORIGINAL-URL:https://prideatwork.ca/fr/
X-WR-CALDESC:Évènements pour Pride At Work Canada
REFRESH-INTERVAL;VALUE=DURATION:PT1H
X-Robots-Tag:noindex
X-PUBLISHED-TTL:PT1H
BEGIN:VTIMEZONE
TZID:America/Edmonton
BEGIN:DAYLIGHT
TZOFFSETFROM:-0700
TZOFFSETTO:-0600
TZNAME:MDT
DTSTART:20240310T090000
END:DAYLIGHT
BEGIN:STANDARD
TZOFFSETFROM:-0600
TZOFFSETTO:-0700
TZNAME:MST
DTSTART:20241103T080000
END:STANDARD
BEGIN:DAYLIGHT
TZOFFSETFROM:-0700
TZOFFSETTO:-0600
TZNAME:MDT
DTSTART:20250309T090000
END:DAYLIGHT
BEGIN:STANDARD
TZOFFSETFROM:-0600
TZOFFSETTO:-0700
TZNAME:MST
DTSTART:20251102T080000
END:STANDARD
BEGIN:DAYLIGHT
TZOFFSETFROM:-0700
TZOFFSETTO:-0600
TZNAME:MDT
DTSTART:20260308T090000
END:DAYLIGHT
BEGIN:STANDARD
TZOFFSETFROM:-0600
TZOFFSETTO:-0700
TZNAME:MST
DTSTART:20261101T080000
END:STANDARD
END:VTIMEZONE
BEGIN:VTIMEZONE
TZID:America/Toronto
BEGIN:DAYLIGHT
TZOFFSETFROM:-0500
TZOFFSETTO:-0400
TZNAME:EDT
DTSTART:20240310T070000
END:DAYLIGHT
BEGIN:STANDARD
TZOFFSETFROM:-0400
TZOFFSETTO:-0500
TZNAME:EST
DTSTART:20241103T060000
END:STANDARD
BEGIN:DAYLIGHT
TZOFFSETFROM:-0500
TZOFFSETTO:-0400
TZNAME:EDT
DTSTART:20250309T070000
END:DAYLIGHT
BEGIN:STANDARD
TZOFFSETFROM:-0400
TZOFFSETTO:-0500
TZNAME:EST
DTSTART:20251102T060000
END:STANDARD
BEGIN:DAYLIGHT
TZOFFSETFROM:-0500
TZOFFSETTO:-0400
TZNAME:EDT
DTSTART:20260308T070000
END:DAYLIGHT
BEGIN:STANDARD
TZOFFSETFROM:-0400
TZOFFSETTO:-0500
TZNAME:EST
DTSTART:20261101T060000
END:STANDARD
END:VTIMEZONE
BEGIN:VEVENT
DTSTART;TZID=America/Edmonton:20250305T110000
DTEND;TZID=America/Edmonton:20250305T130000
DTSTAMP:20260424T114249
CREATED:20250224T192214Z
LAST-MODIFIED:20250224T200754Z
UID:10000796-1741172400-1741179600@prideatwork.ca
SUMMARY:Fierté au travail Canada – Annonce de financement fédéral
DESCRIPTION:Joignez-vous à nous pour un moment historique dans le secteur de l’énergie au Canada ! \nFierté au travail Canada\, en partenariat avec Pride in Business\, vous invite à un déjeuner de réseautage spécial au Calgary Petroleum Club le 5 mars 2025. \nLors de cet événement exclusif\, nous dévoilerons un investissement fédéral historique en faveur de l’inclusion des personnes 2SLGBTQIA+ dans le secteur canadien de l’énergie. Une occasion unique de : \n✓ Écouter des leaders de l’industrie : Avec Colin Druhan (Pride at Work Canada) et Gregory John (Four Peaks Business Development Ltd.).\n✓ Élargir votre réseau : Échangez avec des professionnel·le·s du secteur de l’énergie.\n✓ Célébrer une avancée majeure : Découvrez comment cet investissement transformera les milieux de travail pour les employé·e·s 2SLGBTQIA+. \n[vc_row][vc_column][vc_button_arrow title=”Les places sont limitées—inscrivez-vous dès maintenant !” style=”simple” display=”display_block” button_align=”btn_align_center” skin=”dark” css_animation=”” link=”url: forms.clickup.com/10562298/f/a2aqu-17557/7WV8YTKO3T5N8FIJWN|title:Register today”][/vc_column][/vc_row] \n\nDate : Mercredi 5 mars 2025\nHeure : 11h à 13h HNR\nLieu : Calgary Petroleum Club\, 319 5 Ave SW\, Calgary\, AB\n\n[Le formulaire d’inscription ainsi que l’événement se dérouleront en anglais.] \n  \n[vc_row][vc_column width=”1/3″] \n  \n[/vc_column][vc_column width=”1/3″] \n[/vc_column] \n[vc_column width=”1/3″][/vc_column] \n[/vc_row] \nCe projet est financé dans le cadre du Programme de promotion de la femme de Femmes et Égalité des genres Canada. \n \n 
URL:https://prideatwork.ca/fr/event/annonce-de-financement-federal/
LOCATION:Calgary Petroleum Club\, 319 5 Avenue SW\, Calgary\, Alberta\, T2P0L5\, Canada
CATEGORIES:Networking
END:VEVENT
BEGIN:VEVENT
DTSTART;TZID=America/Toronto:20250325T120000
DTEND;TZID=America/Toronto:20250325T133000
DTSTAMP:20260424T114249
CREATED:20241021T201400Z
LAST-MODIFIED:20241021T202429Z
UID:10000768-1742904000-1742909400@prideatwork.ca
SUMMARY:Matrices : réseautage numérique pour personnes trans\, non binaires et agenres [anglais]
DESCRIPTION:Le mardi 25 mars 2025 de 12 h à 13 h 30 HAE – cet événement de réseautage en ligne est gratuit pour personnes trans\, non binaires et agenres. \n \nFierté au travail Canada est fière de présenter Matrices : réseautage numérique pour personnes trans\, non binaires et agenres\, un événement de réseautage en ligne gratuit pour les membres trans\, non binaires et agenres de la communauté professionnelle et en recherche d’emploi ! Cet événement réunira des personnes professionnelles et en recherche d’emploi aux quatre coins du Canada. \nDans cette session\, nous explorerons un style d’apprentissage en réseau de pairs\, où les participant.e.s se plongeront dans des discussions significatives\, partageront leurs expériences et s’apporteront un soutien mutuel. Les participant.e.s s’engageront dans de multiples sessions en petits groupes\, tout en forgeant des liens précieux avec d’autres professionnel.le.s et personnes à la recherche d’un emploi. Après ces interactions individuelles\, nous nous réunirons en groupe pour réfléchir aux connaissances acquises et clôturer l’événement par une synthèse collaborative. \nVeuillez noter que notre évènement se déroulera entièrement sur la plateforme de réseautage Gatheround. Nous enverrons un lien vers l’évènement aux personnes inscrites. Si vous n’avez jamais utilisé Gatheround\, vous devrez créer un compte et vous connecter. La création d’un compte sur Gatheround nécessite simplement la confirmation d’une adresse courriel. Les personnes inscrites recevront des instructions détaillées pour participer à l’évènement. \nAidez-nous à faire de Matricies un événement plus sécuritaire ! Toutes les personnes participantes recevront une liste de directives communautaires pour cet événement qu’elles devront se tâcher de lire et respecter. L’équipe de Fierté au travail Canada sera présente dans la salle principale en tout temps et des bénévoles assureront la médiation et se relaieront lors de certaines séances de réseautage rapide. \nSous-titrage : Cet évènement sera sous-titré en direct en anglais\, et le sous-titré automatic en français sera disponible si la demande en est faite deux semaines avant l’évènement. \nPourquoi cet événement a-t-il lieu ? \nBien que de nombreux événements et réseaux soient inclusifs aux personnes trans\, non binaires et agenres\, il existe des questions et des discussions qui sont propres à ces membres de la communauté et à leurs expériences. Fierté au travail Canada cherche à créer un espace où les personnes trans\, non binaires et agenres professionnelles ou en recherche d’emploi peuvent trouver du soutien et tisser des liens. Nous espérons être attentifs aux besoins et aux suggestions des participants\, car ces commentaires nous aideront à façonner nos événements futurs. \nQui devrait y assister ? \nLe but de cet événement est de créer un espace consacré aux personnes qui s’identifient comme trans\, non binaires ou agenres. Nous n’avons aucun intérêt à vérifier le genre de quiconque ou de créer des obstacles à l’accès. Toute personne qui assiste à cet événement sera la bienvenue. Bien que le soutien des personnes s’identifiant comme alliées aux personnes et aux communautés trans soit toujours apprécié\, veuillez vous rappeler que la meilleure façon de les soutenir peut parfois être de leur laisser de la place pour qu’elles puissent tisser des liens sur la base de leurs identités et de leurs expériences partagées. \nQui peut répondre à mes questions relatives à l’événement ? \nVeuillez adresser toute question relative à cet événement à Templeton Sawyer (il/lui)\, Coordonateur des programmes de leadership – templeton.sawyer@prideatwork.ca. Vous pouvez également communiquer avec events@prideatwork.ca pour toute question concernant les événements et les activités de Fierté au travail Canada. \nAccessibilité \n\nSous-titrage en direct fourni par 3 Play Media Canada\nPlus de détails sur l’accessibilité à venir. Cependant\, si vous avez des demandes d’accessibilité\, veuillez envoyer un courriel à events@prideatwork.ca avant le mardi 5 novembre 2024.\n\nNombre limité de participant.es à cet événement de réseautage en ligne gratuit pour personnes trans\, non binaires et agenres.\nRegistration for this event has closed.
URL:https://prideatwork.ca/fr/event/matrices-20250325/
CATEGORIES:Free event,Networking
END:VEVENT
END:VCALENDAR