BEGIN:VCALENDAR
VERSION:2.0
PRODID:-//Pride At Work Canada - ECPv6.15.20//NONSGML v1.0//EN
CALSCALE:GREGORIAN
METHOD:PUBLISH
X-ORIGINAL-URL:https://prideatwork.ca/fr/
X-WR-CALDESC:Évènements pour Pride At Work Canada
REFRESH-INTERVAL;VALUE=DURATION:PT1H
X-Robots-Tag:noindex
X-PUBLISHED-TTL:PT1H
BEGIN:VTIMEZONE
TZID:America/Toronto
BEGIN:DAYLIGHT
TZOFFSETFROM:-0500
TZOFFSETTO:-0400
TZNAME:EDT
DTSTART:20230312T070000
END:DAYLIGHT
BEGIN:STANDARD
TZOFFSETFROM:-0400
TZOFFSETTO:-0500
TZNAME:EST
DTSTART:20231105T060000
END:STANDARD
BEGIN:DAYLIGHT
TZOFFSETFROM:-0500
TZOFFSETTO:-0400
TZNAME:EDT
DTSTART:20240310T070000
END:DAYLIGHT
BEGIN:STANDARD
TZOFFSETFROM:-0400
TZOFFSETTO:-0500
TZNAME:EST
DTSTART:20241103T060000
END:STANDARD
BEGIN:DAYLIGHT
TZOFFSETFROM:-0500
TZOFFSETTO:-0400
TZNAME:EDT
DTSTART:20250309T070000
END:DAYLIGHT
BEGIN:STANDARD
TZOFFSETFROM:-0400
TZOFFSETTO:-0500
TZNAME:EST
DTSTART:20251102T060000
END:STANDARD
END:VTIMEZONE
BEGIN:VEVENT
DTSTART;TZID=America/Toronto:20240925T120000
DTEND;TZID=America/Toronto:20240925T133000
DTSTAMP:20260422T003419
CREATED:20240828T205833Z
LAST-MODIFIED:20240923T140242Z
UID:10000740-1727265600-1727271000@prideatwork.ca
SUMMARY:Webinaire : Maximiser le potentiel des GRE pour favoriser des milieux de travail inclusifs [parternaires - anglais]
DESCRIPTION:(Veuillez noter que cet événement est offert en anglais.) \nLe mercredi 25 septembre 2024 de 12 h à 13 h 30 HAE – cet événement est offert en exclusivité au personnel de nos organisations Fières partenaires et Partenaires communautaires.\nUn sous-titrage en direct sera assuré par 3 Play Media Canada. \nLes groupes de ressources pour employé·es (GRE) sont essentiels au développement de milieux de travail inclusifs. Ces groupes fournissent un soutien indispensable aux membres du personnel issu·es de communautés visées par l’équité et ont un impact significatif sur les organisations dans leur ensemble. Au-delà du soutien au personnel\, comment ces groupes influencent-ils la réussite des organisations? \nParticipez à notre prochain webinaire et découvrez comment les GRE peuvent maximiser leur impact au sein des organisations. Au cours de cette séance\, nous proposerons des stratégies concrètes\, des bonnes pratiques et des pistes d’action pour aider les responsables et les membres de GRE à améliorer leur efficacité et à créer des environnements plus inclusifs pour le personnel 2SLGBTQIA+. \nObjectifs d’apprentissage : \n\nComprendre la structure\, les objectifs et les effets potentiels des groupes de ressources pour employé·es au sein des organisations.\nApprendre des stratégies pour maximiser l’efficacité et la portée des GRE dans la promotion de l’inclusion 2SLGBTQIA+.\nExplorer les techniques pour encourager la collaboration entre les différents GRE afin de créer une approche unifiée de la diversité et de l’inclusion.\n\nPublic cible : \n\nResponsables et membres de GRE\nPartenaires exécutifs\nProfessionnel·les des RH et de l’EDI\n\nAccessibilité : \n\nLangue parlée : anglais\nTraduction automatique : anglais vers français\nSous-titrage fourni : anglais et français\nFormat : Virtuel (Zoom en mode webinaire)\nType d’engagement : les participants sont invités à s’engager via le chat (pas d’audio ou de vidéo)\nVeuillez vous inscrire ci-dessous pour toute demande d’accessibilité supplémentaire. Toutes les questions peuvent être envoyées à events@prideatwork.ca.\n\nRegistration for this event has closed.\nCet événement est exclusif aux employés de nos organisations Fières partenaires et Partenaires communautaires. Si vous souhaitez vous inscrire après la date limite\, s’il vous plaît envoyez un courriel à events@prideatwork.ca.
URL:https://prideatwork.ca/fr/event/webinaire-20240925/
CATEGORIES:Partner-only event,Webinar
END:VEVENT
END:VCALENDAR