BEGIN:VCALENDAR
VERSION:2.0
PRODID:-//Pride At Work Canada - ECPv6.15.20//NONSGML v1.0//EN
CALSCALE:GREGORIAN
METHOD:PUBLISH
X-WR-CALNAME:Pride At Work Canada
X-ORIGINAL-URL:https://prideatwork.ca
X-WR-CALDESC:Events for Pride At Work Canada
REFRESH-INTERVAL;VALUE=DURATION:PT1H
X-Robots-Tag:noindex
X-PUBLISHED-TTL:PT1H
BEGIN:VTIMEZONE
TZID:America/Toronto
BEGIN:DAYLIGHT
TZOFFSETFROM:-0500
TZOFFSETTO:-0400
TZNAME:EDT
DTSTART:20250309T070000
END:DAYLIGHT
BEGIN:STANDARD
TZOFFSETFROM:-0400
TZOFFSETTO:-0500
TZNAME:EST
DTSTART:20251102T060000
END:STANDARD
BEGIN:DAYLIGHT
TZOFFSETFROM:-0500
TZOFFSETTO:-0400
TZNAME:EDT
DTSTART:20260308T070000
END:DAYLIGHT
BEGIN:STANDARD
TZOFFSETFROM:-0400
TZOFFSETTO:-0500
TZNAME:EST
DTSTART:20261101T060000
END:STANDARD
BEGIN:DAYLIGHT
TZOFFSETFROM:-0500
TZOFFSETTO:-0400
TZNAME:EDT
DTSTART:20270314T070000
END:DAYLIGHT
BEGIN:STANDARD
TZOFFSETFROM:-0400
TZOFFSETTO:-0500
TZNAME:EST
DTSTART:20271107T060000
END:STANDARD
END:VTIMEZONE
BEGIN:VTIMEZONE
TZID:America/Vancouver
BEGIN:DAYLIGHT
TZOFFSETFROM:-0800
TZOFFSETTO:-0700
TZNAME:PDT
DTSTART:20250309T100000
END:DAYLIGHT
BEGIN:STANDARD
TZOFFSETFROM:-0700
TZOFFSETTO:-0800
TZNAME:PST
DTSTART:20251102T090000
END:STANDARD
BEGIN:DAYLIGHT
TZOFFSETFROM:-0800
TZOFFSETTO:-0700
TZNAME:PDT
DTSTART:20260308T100000
END:DAYLIGHT
BEGIN:STANDARD
TZOFFSETFROM:-0700
TZOFFSETTO:-0800
TZNAME:PST
DTSTART:20261101T090000
END:STANDARD
BEGIN:DAYLIGHT
TZOFFSETFROM:-0800
TZOFFSETTO:-0700
TZNAME:PDT
DTSTART:20270314T100000
END:DAYLIGHT
BEGIN:STANDARD
TZOFFSETFROM:-0700
TZOFFSETTO:-0800
TZNAME:PST
DTSTART:20271107T090000
END:STANDARD
END:VTIMEZONE
BEGIN:VEVENT
DTSTART;TZID=America/Toronto:20260113T170000
DTEND;TZID=America/Toronto:20260113T180000
DTSTAMP:20260421T121404
CREATED:20251119T181000Z
LAST-MODIFIED:20251203T182629Z
UID:10000939-1768323600-1768327200@prideatwork.ca
SUMMARY:THRIVE 2026: Information Session
DESCRIPTION:January 13th 2026\, 5pm-6pm ET \nJoin us for an Information Session about THRIVE\, a transformative ten-week virtual program designed to empower and develop the next generation of Two-Spirit\, queer\, and trans people managers. If you’re ready to step into leadership roles with confidence and pride\, this session is for you! \nAbout THRIVE:\nTHRIVE is a ten-week virtual program that will develop the next generation of Two-Spirit\, queer and trans people managers. Participants will get exclusive access to queer and trans leaders working at the highest levels of Canadian business and engage in important peer-to-peer discussions. Through live Zoom sessions\, collaborative group study\, and self-directed work our sixth THRIVE cohort will collectively unlock their potential as out leaders. \nTHRIVE will help you enhance your skills\, build your network\, and take your career to the next level as an out leader. \nAccessibility:\n\nSpoken language: English\nAutomatic translation: English to French\nClose captioning provided: English and French\nFormat: Virtual (Zoom in webinar mode)\nEngagement type: participants invited to engage via chat (no audio or video)\nPlease register below additional accessibility requests.\n\nRegistration for this event has closed.\nQuestions about THRIVE 2026 can be directed to Templeton Sawyer (he/him)\, Leadership Programs Coordinator\, at templeton.sawyer@prideatwork.ca.
URL:https://prideatwork.ca/event/webinar-20260113/
CATEGORIES:Free event,Leadership,Webinar
END:VEVENT
BEGIN:VEVENT
DTSTART;TZID=America/Vancouver:20260122T130000
DTEND;TZID=America/Vancouver:20260122T140000
DTSTAMP:20260421T121404
CREATED:20251222T210103Z
LAST-MODIFIED:20251222T210433Z
UID:10000948-1769086800-1769090400@prideatwork.ca
SUMMARY:BC Ambassador Meeting
DESCRIPTION:Thursday\, January 22 | 4:00pm – 5:00pm EDT (1:00pm – 2:00pm PDT) \nThe Ambassador Program operates as a series of regional groups made up of representatives from our Proud Partner network who share best practices and strategies for creating 2SLGBTQIA+ affirming work environments. \nTo learn more about the program and join\, visit prideatwork.ca/programs/ambassador-program/
URL:https://prideatwork.ca/event/ambassador-20260122/
CATEGORIES:Free event,Networking,Webinar
END:VEVENT
END:VCALENDAR