BEGIN:VCALENDAR
VERSION:2.0
PRODID:-//Pride At Work Canada - ECPv6.15.20//NONSGML v1.0//EN
CALSCALE:GREGORIAN
METHOD:PUBLISH
X-WR-CALNAME:Pride At Work Canada
X-ORIGINAL-URL:https://prideatwork.ca
X-WR-CALDESC:Events for Pride At Work Canada
REFRESH-INTERVAL;VALUE=DURATION:PT1H
X-Robots-Tag:noindex
X-PUBLISHED-TTL:PT1H
BEGIN:VTIMEZONE
TZID:America/Toronto
BEGIN:DAYLIGHT
TZOFFSETFROM:-0500
TZOFFSETTO:-0400
TZNAME:EDT
DTSTART:20230312T070000
END:DAYLIGHT
BEGIN:STANDARD
TZOFFSETFROM:-0400
TZOFFSETTO:-0500
TZNAME:EST
DTSTART:20231105T060000
END:STANDARD
BEGIN:DAYLIGHT
TZOFFSETFROM:-0500
TZOFFSETTO:-0400
TZNAME:EDT
DTSTART:20240310T070000
END:DAYLIGHT
BEGIN:STANDARD
TZOFFSETFROM:-0400
TZOFFSETTO:-0500
TZNAME:EST
DTSTART:20241103T060000
END:STANDARD
BEGIN:DAYLIGHT
TZOFFSETFROM:-0500
TZOFFSETTO:-0400
TZNAME:EDT
DTSTART:20250309T070000
END:DAYLIGHT
BEGIN:STANDARD
TZOFFSETFROM:-0400
TZOFFSETTO:-0500
TZNAME:EST
DTSTART:20251102T060000
END:STANDARD
END:VTIMEZONE
BEGIN:VEVENT
DTSTART;TZID=America/Toronto:20240612T120000
DTEND;TZID=America/Toronto:20240612T133000
DTSTAMP:20260421T172033
CREATED:20240507T140432Z
LAST-MODIFIED:20240523T172030Z
UID:10000729-1718193600-1718199000@prideatwork.ca
SUMMARY:Virtual ProPride Amplifying Pride: Engaging 2SLGBTQIA+ Influencers for Impact [free - EN]
DESCRIPTION:Wednesday\, June 12\, 2024\, from 12 PM to 1:30 PM EDT – This online event is free and open to all who wish to register. \nReady to go beyond surface-level engagement and make a meaningful impact during Pride Month\, especially in the face of rising anti-2SLGBTQIA+ hate? Join our expert panel of 2SLGBTQIA+ influencers\, seasoned in marketing and strategic partnerships\, as they unveil invaluable strategies and insights to guide your organization through this pivotal moment. \nFrom cultivating authentic connections to building strategic partnerships\, we’ll explore creative and efficient approaches that go beyond surface-level engagement. Discover how amplifying your advocacy efforts can foster a more inclusive workplace and community beyond Pride month. \nLearning Goals: \n\nAcquire practical tips and actionable insights to effectively navigate Pride Month initiatives and create a lasting positive impact for your organization.\nDeepen your understanding of the importance of authenticity in engaging with the 2SLGBTQIA+ community during Pride Month and beyond.\nExplore strategies for building successful partnerships with 2SLGBTQIA+ influencers to enhance your organization’s impact and reach.\n\nAudience: \n\nCommunications and Marketing Teams\nEquity\, Diversity\, and Inclusion Professionals\n2SLGBTQIA+ Employee Resource Groups\n\nSPEAKERS\n[vc_row] \n[vc_column width=”1/4″] \n \nHaley Robinson (they/them)\nActor\, Model and Advocate\n[Speaker]\n[/vc_column] \n[vc_column width=”1/4″] \n \nJamie Pandit (she/her)\nContent Creator and Fashion Expert\n[Speaker]\n[/vc_column] \n[vc_column width=”1/4″] \n \nKissy Duerre (she/her)\nMulti-platform Digital Creator\n[Speaker]\n[/vc_column] \n[vc_column width=”1/4″] \n \nMathieu Young (he/him\, they/them)\nVirtual Programs Coordinator\nPride at Work Canada\n[Moderator]\n[/vc_column] \n[/vc_row] \nAccessibility: \n\nSpoken language: English\nAutomatic translation: English to French\nClosed captioning provided: English and French\nFormat: Virtual (Zoom in webinar mode)\nEngagement type: participants invited to engage via chat (no audio or video)\nPlease register below additional accessibility requests. Any questions may be sent to events@prideatwork.ca\n\nAbout ProPride:\nProPride is an innovative event series hosted by Pride at Work Canada\, bringing together inclusive employers\, 2SLGBTQIA+ thought leaders\, and community organizations for engaging conversations\, networking opportunities\, panel and roundtable discussions. With a commitment to creating inclusive spaces beyond Pride celebrations\, ProPride provides a dynamic environment for employees\, job seekers\, and community members\, as well as employers committed to 2SLGBTQIA+ inclusion. Join us for access to the most relevant topics and current research\, as we celebrate progress in 2SLGBTQIA+ leadership and inclusion and create a better\, more inclusive future for all. \nRegistration for this event has closed.\nThis online event is free and open to all who wish to register. If you would like to register after the deadline\, please send an email to events@prideatwork.ca.
URL:https://prideatwork.ca/event/virtual-propride-2024/
CATEGORIES:Free event,ProPride
END:VEVENT
END:VCALENDAR