BEGIN:VCALENDAR
VERSION:2.0
PRODID:-//Pride At Work Canada - ECPv6.15.20//NONSGML v1.0//EN
CALSCALE:GREGORIAN
METHOD:PUBLISH
X-ORIGINAL-URL:https://prideatwork.ca
X-WR-CALDESC:Events for Pride At Work Canada
REFRESH-INTERVAL;VALUE=DURATION:PT1H
X-Robots-Tag:noindex
X-PUBLISHED-TTL:PT1H
BEGIN:VTIMEZONE
TZID:America/Toronto
BEGIN:DAYLIGHT
TZOFFSETFROM:-0500
TZOFFSETTO:-0400
TZNAME:EDT
DTSTART:20230312T070000
END:DAYLIGHT
BEGIN:STANDARD
TZOFFSETFROM:-0400
TZOFFSETTO:-0500
TZNAME:EST
DTSTART:20231105T060000
END:STANDARD
BEGIN:DAYLIGHT
TZOFFSETFROM:-0500
TZOFFSETTO:-0400
TZNAME:EDT
DTSTART:20240310T070000
END:DAYLIGHT
BEGIN:STANDARD
TZOFFSETFROM:-0400
TZOFFSETTO:-0500
TZNAME:EST
DTSTART:20241103T060000
END:STANDARD
BEGIN:DAYLIGHT
TZOFFSETFROM:-0500
TZOFFSETTO:-0400
TZNAME:EDT
DTSTART:20250309T070000
END:DAYLIGHT
BEGIN:STANDARD
TZOFFSETFROM:-0400
TZOFFSETTO:-0500
TZNAME:EST
DTSTART:20251102T060000
END:STANDARD
END:VTIMEZONE
BEGIN:VEVENT
DTSTART;TZID=America/Toronto:20241015T163000
DTEND;TZID=America/Toronto:20241015T200000
DTSTAMP:20260424T064243
CREATED:20241002T161451Z
LAST-MODIFIED:20241011T140532Z
UID:10000753-1729009800-1729022400@prideatwork.ca
SUMMARY:Pride vs. Prejudice: The Delwin Vriend Story - a Doc Film Screening [free - EN]
DESCRIPTION:Tuesday\, Octobre 15\, 2024\, from 4:30 PM to 8 PM EDT – This is a free film screening open to anyone who would like to attend. \nJoin Pride at Work Canada and the University of Toronto’s Rotman School of Management for a special screening of Pride vs. Prejudice: The Delwin Vriend Story. This powerful documentary chronicles the journey of Delwin Vriend\, a man who was dismissed from a Christian university in Edmonton for being gay. \nHis fight against this discrimination led to a landmark Supreme Court case\, Vriend v Alberta\, which played a crucial role in advancing 2SLGBTQI+ rights in Canada. This documentary was produced by the Edmonton Community Foundation and the Edmonton Queer History Project and premiered in Spring 2024. \nEnjoy complimentary refreshments and mingle with fellow movie enthusiasts before the show. Following the screening\, we will have a fireside chat between Special Guest Douglas R. Stollery and moderator Jade Pichette (Pride at Work Canada). \nWe are honoured to welcome Douglas R. Stollery\, an esteemed construction lawyer\, human rights advocate\, President of the Stollery Charitable Foundation and former Chancellor of the University of Alberta. Stollery played a central role in the Vriend v Alberta case and has received many awards including the Order of Canada for his contributions to advancing 2SLGBTQI+ rights and other charitable initiatives. \nRegister here.
URL:https://prideatwork.ca/event/screening-pride-vs-prejudice/
LOCATION:Rotman School of Management\, 105 St. George St.\, Toronto\, ON\, M5S 2E8\, Canada
CATEGORIES:Free event,Networking,Panel Discussion
END:VEVENT
END:VCALENDAR